BEGIN:VCALENDAR
VERSION:2.0
PRODID:-//Countryhouse - ECPv6.15.16.1//NONSGML v1.0//EN
CALSCALE:GREGORIAN
METHOD:PUBLISH
X-WR-CALNAME:Countryhouse
X-ORIGINAL-URL:https://www.countryhousehoa.org
X-WR-CALDESC:Events for Countryhouse
REFRESH-INTERVAL;VALUE=DURATION:PT1H
X-Robots-Tag:noindex
X-PUBLISHED-TTL:PT1H
BEGIN:VTIMEZONE
TZID:America/New_York
BEGIN:DAYLIGHT
TZOFFSETFROM:-0500
TZOFFSETTO:-0400
TZNAME:EDT
DTSTART:20250309T070000
END:DAYLIGHT
BEGIN:STANDARD
TZOFFSETFROM:-0400
TZOFFSETTO:-0500
TZNAME:EST
DTSTART:20251102T060000
END:STANDARD
BEGIN:DAYLIGHT
TZOFFSETFROM:-0500
TZOFFSETTO:-0400
TZNAME:EDT
DTSTART:20260308T070000
END:DAYLIGHT
BEGIN:STANDARD
TZOFFSETFROM:-0400
TZOFFSETTO:-0500
TZNAME:EST
DTSTART:20261101T060000
END:STANDARD
BEGIN:DAYLIGHT
TZOFFSETFROM:-0500
TZOFFSETTO:-0400
TZNAME:EDT
DTSTART:20270314T070000
END:DAYLIGHT
BEGIN:STANDARD
TZOFFSETFROM:-0400
TZOFFSETTO:-0500
TZNAME:EST
DTSTART:20271107T060000
END:STANDARD
END:VTIMEZONE
BEGIN:VEVENT
DTSTART;TZID=America/New_York:20260420T000000
DTEND;TZID=America/New_York:20260421T235959
DTSTAMP:20260419T192700
CREATED:20260413T215806Z
LAST-MODIFIED:20260413T215907Z
UID:4012-1776643200-1776815999@www.countryhousehoa.org
SUMMARY:Landscaping: Weed Spraying
DESCRIPTION:In preparation for the expected mulching beginning 4/27\, spraying for weeds except for those homes on the “no-spray” list. \nCheck email or with Bonnie O’Connell for “no-spray” status or with any questions: bocatt88@gmail.com \n  \n  \n 
URL:https://www.countryhousehoa.org/event/landscaping-weed-spraying/
LOCATION:Countryhouse
CATEGORIES:Landscaping
END:VEVENT
BEGIN:VEVENT
DTSTART;TZID=America/New_York:20260420T000000
DTEND;TZID=America/New_York:20260421T235959
DTSTAMP:20260419T192700
CREATED:20260419T214619Z
LAST-MODIFIED:20260419T214619Z
UID:4029-1776643200-1776815999@www.countryhousehoa.org
SUMMARY:Landscaping / Weed Spraying
DESCRIPTION:This week Ruppert will be in Countryhouse Monday 4/20 and Tuesday 4/21. \nAs we have previously mentioned\, they will be spraying garden areas in preparation for mulching next week as well as walkways\, to stop the growth of weeds from all the warm weather we have had. Like last year\, they will be using a combination of pre-emergent and post-emergent products that are purported to be a healthier version of Round Up. According to Ruppert\, the chemicals are absorbed into the weed’s system more quickly and it should be safe to walk in these areas after 24 hours or less. \nThose of you who have chosen to be placed on the No Spray list will be responsible for removing the weeds in your own areas. White or green flags will be placed at the entrance of each close as the spraying is finished. \nThank you for your cooperation with the landscaping crew as they perform this necessary\, but not always popular\, work. It will help ensure the success of our mulching program\, which is a very large part of our landscaping budget. \nBonnie O’Connell
URL:https://www.countryhousehoa.org/event/landscaping-weed-spraying-2/
LOCATION:Countryhouse
CATEGORIES:Landscaping
END:VEVENT
BEGIN:VEVENT
DTSTART;TZID=America/New_York:20260421T093000
DTEND;TZID=America/New_York:20260421T113000
DTSTAMP:20260419T192700
CREATED:20251205T181237Z
LAST-MODIFIED:20260419T223253Z
UID:3711-1776763800-1776771000@www.countryhousehoa.org
SUMMARY:Countryhouse Community / Board Meeting
DESCRIPTION:Join your Countryhouse Board of Directors at our monthly Board meeting. \nWe meet on the third Tuesdays of each month at 9:30 am at the Gathering Place. \nAgendas\, Financial Reports\, Management Reports\, Motions Passed\, and Minutes are available here.
URL:https://www.countryhousehoa.org/event/countryhouse-community-board-meeting-9/
LOCATION:The Gathering Place\, 26 Swim & Croquet\, Pittsboro\, NC\, 27312\, United States
CATEGORIES:Community/Board Meeting
END:VEVENT
BEGIN:VEVENT
DTSTART;TZID=America/New_York:20260427T000000
DTEND;TZID=America/New_York:20260501T235959
DTSTAMP:20260419T192700
CREATED:20260407T161424Z
LAST-MODIFIED:20260413T220008Z
UID:4005-1777248000-1777679999@www.countryhousehoa.org
SUMMARY:Landscaping: Mulching Project
DESCRIPTION:We are preparing to do our seasonal mulching project so we want to update you about it. The work is actually done by a company contracted by Ruppert\, not our crew\, and is set to begin around April 27.  They will be spreading  triple shredded mulch around the fronts and sides of homes to a depth of two inches\, except for those homes that are on the “no mulch” list. \nMulch will not be placed on top of pine straw so\, if either you or mother nature have placed pine straw in these areas\, please rake it away to allow for the mulch placement. \nNo mulch will be spread in the backs of homes\, so that will be up to you to do if you have gardens there. \nPine straw will be placed in natural and sloped areas\, as was done last year. We will continue to update you as needed. \nBonnie O’Connell
URL:https://www.countryhousehoa.org/event/mulching-project/
LOCATION:Countryhouse
END:VEVENT
BEGIN:VEVENT
DTSTART;TZID=America/New_York:20260519T093000
DTEND;TZID=America/New_York:20260519T113000
DTSTAMP:20260419T192700
CREATED:20251205T181355Z
LAST-MODIFIED:20251205T181405Z
UID:3713-1779183000-1779190200@www.countryhousehoa.org
SUMMARY:Countryhouse Community / Board Meeting
DESCRIPTION:Join your Countryhouse Board of Directors at our monthly Board meeting. \nWe meet on the third Tuesdays of each month at 9:30 am at the Gathering Place.
URL:https://www.countryhousehoa.org/event/countryhouse-community-board-meeting-10/
LOCATION:The Gathering Place\, 26 Swim & Croquet\, Pittsboro\, NC\, 27312\, United States
CATEGORIES:Community/Board Meeting
END:VEVENT
BEGIN:VEVENT
DTSTART;TZID=America/New_York:20260616T093000
DTEND;TZID=America/New_York:20260616T113000
DTSTAMP:20260419T192700
CREATED:20251205T181515Z
LAST-MODIFIED:20251205T181515Z
UID:3716-1781602200-1781609400@www.countryhousehoa.org
SUMMARY:Countryhouse Community / Board Meeting
DESCRIPTION:Join your Countryhouse Board of Directors at our monthly Board meeting. \nWe meet on the third Tuesdays of each month at 9:30 am at the Gathering Place.
URL:https://www.countryhousehoa.org/event/countryhouse-community-board-meeting-11/
LOCATION:The Gathering Place\, 26 Swim & Croquet\, Pittsboro\, NC\, 27312\, United States
CATEGORIES:Community/Board Meeting
END:VEVENT
BEGIN:VEVENT
DTSTART;TZID=America/New_York:20260721T093000
DTEND;TZID=America/New_York:20260721T113000
DTSTAMP:20260419T192700
CREATED:20251205T181656Z
LAST-MODIFIED:20251205T181656Z
UID:3719-1784626200-1784633400@www.countryhousehoa.org
SUMMARY:Countryhouse Community / Board Meeting
DESCRIPTION:Join your Countryhouse Board of Directors at our monthly Board meeting. \nWe meet on the third Tuesdays of each month at 9:30 am at the Gathering Place.
URL:https://www.countryhousehoa.org/event/countryhouse-community-board-meeting-12/
LOCATION:The Gathering Place\, 26 Swim & Croquet\, Pittsboro\, NC\, 27312\, United States
CATEGORIES:Community/Board Meeting
END:VEVENT
BEGIN:VEVENT
DTSTART;TZID=America/New_York:20260818T093000
DTEND;TZID=America/New_York:20260818T113000
DTSTAMP:20260419T192700
CREATED:20251205T181837Z
LAST-MODIFIED:20251205T181837Z
UID:3722-1787045400-1787052600@www.countryhousehoa.org
SUMMARY:Countryhouse Community / Board Meeting
DESCRIPTION:Join your Countryhouse Board of Directors at our monthly Board meeting. \nWe meet on the third Tuesdays of each month at 9:30 am at the Gathering Place.
URL:https://www.countryhousehoa.org/event/countryhouse-community-board-meeting-13/
LOCATION:The Gathering Place\, 26 Swim & Croquet\, Pittsboro\, NC\, 27312\, United States
CATEGORIES:Community/Board Meeting
END:VEVENT
BEGIN:VEVENT
DTSTART;TZID=America/New_York:20260915T093000
DTEND;TZID=America/New_York:20260915T113000
DTSTAMP:20260419T192700
CREATED:20251205T181950Z
LAST-MODIFIED:20251205T181950Z
UID:3724-1789464600-1789471800@www.countryhousehoa.org
SUMMARY:Countryhouse Community / Board Meeting
DESCRIPTION:Join your Countryhouse Board of Directors at our monthly Board meeting. \nWe meet on the third Tuesdays of each month at 9:30 am at the Gathering Place.
URL:https://www.countryhousehoa.org/event/countryhouse-community-board-meeting-14/
LOCATION:The Gathering Place\, 26 Swim & Croquet\, Pittsboro\, NC\, 27312\, United States
CATEGORIES:Community/Board Meeting
END:VEVENT
BEGIN:VEVENT
DTSTART;TZID=America/New_York:20261020T093000
DTEND;TZID=America/New_York:20261020T113000
DTSTAMP:20260419T192700
CREATED:20251205T182058Z
LAST-MODIFIED:20251205T182058Z
UID:3726-1792488600-1792495800@www.countryhousehoa.org
SUMMARY:Countryhouse Community / Board Meeting
DESCRIPTION:Join your Countryhouse Board of Directors at our monthly Board meeting. \nWe meet on the third Tuesdays of each month at 9:30 am at the Gathering Place.
URL:https://www.countryhousehoa.org/event/countryhouse-community-board-meeting-15/
LOCATION:The Gathering Place\, 26 Swim & Croquet\, Pittsboro\, NC\, 27312\, United States
CATEGORIES:Community/Board Meeting
END:VEVENT
BEGIN:VEVENT
DTSTART;TZID=America/New_York:20261215T093000
DTEND;TZID=America/New_York:20261215T113000
DTSTAMP:20260419T192700
CREATED:20251205T182223Z
LAST-MODIFIED:20251205T182223Z
UID:3728-1797327000-1797334200@www.countryhousehoa.org
SUMMARY:Countryhouse Community / Board Meeting
DESCRIPTION:Join your Countryhouse Board of Directors at our monthly Board meeting. \nWe meet on the third Tuesdays of each month at 9:30 am at the Gathering Place.
URL:https://www.countryhousehoa.org/event/countryhouse-community-board-meeting-16/
LOCATION:The Gathering Place\, 26 Swim & Croquet\, Pittsboro\, NC\, 27312\, United States
CATEGORIES:Community/Board Meeting
END:VEVENT
END:VCALENDAR